BEGIN:VCALENDAR
VERSION:2.0
PRODID:icalendar-ruby
CALSCALE:GREGORIAN
METHOD:PUBLISH
BEGIN:VEVENT
DTSTAMP:20260420T135907Z
UID:59-267116@stjohncovina.org
DTSTART:20260422T010000Z
DTEND:20260422T023000Z
CLASS:PUBLIC
CREATED:20260322T153625
DESCRIPTION:
LAST-MODIFIED:20260322T153625
LOCATION:
SUMMARY:LWML Meeting
URL;VALUE=URI:https://www.stjohncovina.org/events/lwml-meeting--59/2026-04-
 21
ATTACH;FILENAME=Lutheran-Women-in-Mission.jpg;FMTTYPE=image/jpeg:https://dq
 5pwpg1q8ru0.cloudfront.net/2026/03/01/20/15/54/85f4b0e7-41e5-4e7c-93b8-2e5
 38e5b021e/Lutheran-Women-in-Mission.jpg
END:VEVENT
END:VCALENDAR
