BEGIN:VCALENDAR
VERSION:2.0
PRODID:icalendar-ruby
CALSCALE:GREGORIAN
METHOD:PUBLISH
BEGIN:VEVENT
DTSTAMP:20260420T135548Z
UID:58-267114@stjohncovina.org
DTSTART:20260422T000000Z
DTEND:20260422T010000Z
CLASS:PUBLIC
CREATED:20260322T153516
DESCRIPTION:
LAST-MODIFIED:20260322T153516
LOCATION:
SUMMARY:Women's Book Club
URL;VALUE=URI:https://www.stjohncovina.org/events/womens-book-club--58/2026
 -04-21
ATTACH;FILENAME=Women%27s-Book-Club.jpg;FMTTYPE=image/jpeg:https://dq5pwpg1
 q8ru0.cloudfront.net/2026/03/01/20/10/08/e51b3de2-d4c0-4f5c-93d1-8481798c5
 32a/Women%2527s-Book-Club.jpg
END:VEVENT
END:VCALENDAR
